BEGIN:VCALENDAR
VERSION:2.0
PRODID:-//Casa Menotti - ECPv4.6.23//NONSGML v1.0//EN
CALSCALE:GREGORIAN
METHOD:PUBLISH
X-WR-CALNAME:Casa Menotti
X-ORIGINAL-URL:https://www.casamenotti.it
X-WR-CALDESC:Events for Casa Menotti
BEGIN:VEVENT
DTSTART;TZID=Europe/Rome:20241005T170000
DTEND;TZID=Europe/Rome:20241005T170000
DTSTAMP:20260424T180454
CREATED:20240703T071528Z
LAST-MODIFIED:20240703T071528Z
UID:3698-1728147600-1728147600@www.casamenotti.it
SUMMARY:Alessandro Bistarelli\, pianoforte
DESCRIPTION:Programma  \nJohann Sebastian Bach (Eisenach 1685- Lipsia 1750)\nPraeludium e fuga n. 14 in fa diesis minore BWV 883 – da “Das Wohltemperierte Klavier” volume II (1744) \nMuzio Clementi (Roma 1752 – Evesham Worcestershire\, Inghilterra 1832)\nSonata in si minore op. 40 n. 2 (1802)\nMolto adagio e sostenuto – Allegro con fuoco e con espressione\nLargo\, mesto e patetico\nAllegro – Tempo primo – Presto \nJohannes Brahms (Amburgo 1833 – Vienna 1897)\nVariazioni su un tema originale op. 21 n. 1 (1856)\nPoco larghetto (Thema\, Variazione I) – Più moto (Variazione II\, III\, IV) – Tempo di tema (Variazione V) – Più moto (Variazione VI) – Andante con moto (Variazione VII) – Allegro non troppo (Variazione\, VIII\, IX\, X) – Tempo di tema\, poco più lento (Variazione XI)  \nFerruccio Busoni (Empoli 1866 – Berlino 1924)\nda “Elegien” Sieben neue Klavierstücke (1907):\nNach der Wendung (Dopo la svolta)\nSostenuto\, quasi Adagio\nDie Nächtlichen (Notturno) – Valzer\nSchnell\, flüchtig und verschleiert (Rapido\, fuggevole e velato) – Un poco più tranquillo – Tempo I\nErscheinung (Apparizione) – Notturno\nAndante\nBerceuse\nAndantino calmo – Un poco mosso\n\nAlessandro Bistarelli\, pianista e musicologo\, nato a Città di Castello\, ha compiuto gli studi musicali presso il Conservatorio “Francesco Morlacchi” di Perugia\, diplomandosi in pianoforte. Si è poi perfezionato a Roma con Eugenio De Rosa e a Genova con Massimiliano Damerini.\nHa inoltre frequentato corsi di interpretazione pianistica con Guido Agosti\, György Sandor\, Andrea Pestalozza\, Christiane Montandon\, Christa Butzberger e per l’interpretazione bachiana con Huguette Dreyfus.\nHa frequentato presso l’Accademia Musicale Pescarese il corso biennale tenuto dal Maestro Piotr Lachert\, conseguendo il Diploma in Didattica Pianistica.\nNel 2014 ha conseguito presso il Conservatorio di Musica di Perugia il Diploma Accademico di Secondo Livello in Discipline Musicali (Pianoforte)\, sotto la guida del Maestro Stefano Ragni\, con votazione di centodieci\, lode e menzione d’onore\, discutendo una tesi sulle ultime opere pianistiche di Aleksandr Skrjabin.\nÈ stato ospite di varie associazioni musicali\, tra cui Festival Internazionale di Musica da Camera Italiana del Comprensorio del Trasimeno\, Centro Italiano Diffusione Musica da Camera di Anzio\, Amici della Musica di Cortona\, Associazione Musicale Orfeo Stillo di Paola\, Rassegna Musicale Spoltore Musica\, Amici della Musica di Sansepolcro\, Festival Max Reger a Merano\, Festival Chioggia Laguna d’Arte\, Casa Menotti e Teatro Lirico Sperimentale a Spoleto\, Associazione Giovanile Musicale di Perugia\, Postignano “Un castello all’orizzonte”\, Cappella Musicale della Cattedrale di San Rufino ad Assisi\, Festival di Musica Classica di Castiglione del Lago\, Tetracordo Festival a Isernia\, Todi Festival\, Festival Federico Cesi\, Associazione Musicale Felice Romani Moneglia\, Circolo Culturale Lya De Barberiis a Valmontone\, Associazione Amici della Musica di Foligno e Circolo dei Lettori di Torino.\nHa tenuto conferenze concerto su invito dei Conservatori di Musica di Perugia e di Latina.\nNel 1988 e nel 1990 ha tenuto concerti in Messico a San Louis Potosì\, Puebla\, Morelia\, Acapulco\, Còrdoba\, Veracruz\, Toluca\, Guadalajara.\nHa suonato per gli Istituti Italiani di Cultura in Finlandia (Helsinki\, 2002) e in Libia (Tripoli\, 2008).\nNel 2006 l’Istituto Polacco di Roma lo ha invitato a tenere un concerto monografico sulle opere pianistiche di Piotr Lachert\, alla presenza del compositore.\nNel 2009\, nel 2011 e nel 2022 ha tenuto concerti a Yverdon Les Bains (Svizzera) per l’Associazione Culturale Cenacolo e per la Galleria d’Arte Contemporanea Hôtel de Ville.\nDa molti anni Alessandro Bistarelli svolge un lavoro di ricerca musicologica sul pensiero compositivo e sull’opera pianistica di Aleksandr Skrjabin\, di cui è appassionato interprete.\nIn questa veste nel centenario della morte ha registrato per Radio Vaticana un ciclo di quattro trasmissioni\, trasmesse nei mesi di marzo e aprile 2015. Nell’ambito del 102° Congresso della Società Teosofica Italiana ha presentato una relazione su Skrjabin musicista teosofo e filosofo (2016). Nello stesso anno ha inciso per la casa discografica Sheva Collection un CD dedicato al ciclo delle ultime composizioni del musicista russo. Recentemente ha pubblicato per Zecchini Editore il libro Le ultime produzioni pianistiche di Aleksandr Skrjabin poeta\, filosofo e mistico.\nIn occasione del concerto skrjabiniano tenuto per l’Associazione Giovanile Musicale di Perugia\, il critico musicale Stefano Ragni ha scritto sul “Giornale dell’Umbria”: con una chiara visione interpretativa e una impeccabile scansione dei tempi e dei moduli ritmici che l’autore sviluppò ai limiti dell’informale\, Bistarelli ha guidato i suoi ascoltatori verso un mondo pulviscolare e fremente di pulsazioni emozionali che alludono all’estasi cosmica. \n
URL:https://www.casamenotti.it/event/alessandro-bistarelli-pianoforte-2/
CATEGORIES:Musica
ATTACH;FMTTYPE=image/jpeg:https://www.casamenotti.it/wp-content/uploads/2024/07/Unknown-5.jpeg
END:VEVENT
END:VCALENDAR