BEGIN:VCALENDAR
VERSION:2.0
PRODID:-//Casa Menotti - ECPv4.6.23//NONSGML v1.0//EN
CALSCALE:GREGORIAN
METHOD:PUBLISH
X-WR-CALNAME:Casa Menotti
X-ORIGINAL-URL:https://www.casamenotti.it
X-WR-CALDESC:Events for Casa Menotti
BEGIN:VEVENT
DTSTART;TZID=Europe/Rome:20230603T170000
DTEND;TZID=Europe/Rome:20230603T170000
DTSTAMP:20260425T040806
CREATED:20230515T073255Z
LAST-MODIFIED:20230515T073356Z
UID:3354-1685811600-1685811600@www.casamenotti.it
SUMMARY:"Diesis audio" presenta "Listen to the dark side"
DESCRIPTION:“Diesis Audio” vi invita ad un’esperienza d’ascolto unica con “The Dark Side Of The Moon” capolavoro indiscusso dei Pink Floyd\, a 50 anni dalla sua uscita.\nUn appuntamento immersivo per il pubblico\, un vero e proprio “incontro ravvicinato” con un disco non intaccato dal tempo\, sempre attuale e ricco di musicalità.\nUn disco che risulta non solo moderno ma addirittura futuristico\, capace di dispensare emozioni a chi ascolta.\nLa genialità artigianale di “Diesis Audio” tra le eccellenze mondiali dell’hi – end offre un’esperienza unica di ascolto\, nella culla della cultura di Spoleto e del Festival\, come il Museo Casa Menotti. \n
URL:https://www.casamenotti.it/event/diesis-audio-presenta-listen-to-the-dark-side/
CATEGORIES:Musica
ATTACH;FMTTYPE=image/jpeg:https://www.casamenotti.it/wp-content/uploads/2023/05/darkside.jpg
END:VEVENT
END:VCALENDAR