BEGIN:VCALENDAR
VERSION:2.0
PRODID:-//Casa Menotti - ECPv4.6.23//NONSGML v1.0//EN
CALSCALE:GREGORIAN
METHOD:PUBLISH
X-WR-CALNAME:Casa Menotti
X-ORIGINAL-URL:https://www.casamenotti.it
X-WR-CALDESC:Events for Casa Menotti
BEGIN:VEVENT
DTSTART;TZID=Europe/Rome:20250831T120000
DTEND;TZID=Europe/Rome:20250831T120000
DTSTAMP:20260424T131730
CREATED:20250717T134127Z
LAST-MODIFIED:20250726T085938Z
UID:4095-1756641600-1756641600@www.casamenotti.it
SUMMARY:Gian Carlo e Thomas: due vite\, una città\, un festival - con Michele Dall'Ongaro
DESCRIPTION:Quello del Festival dei due mondi di Spoleto è stato un viaggio iniziato 68 anni fa e arrivato fino ai giorni nostri\, con un fascino intatto.\nNato dall’intuizione di Gian Carlo Menotti e realizzato con la passione di tanti spoletini che nei decenni sono stati la “spina dorsale”\, della manifestazione. \nGian Carlo Menotti\, fino agli anni ’90 compositore vivente più rappresentato al mondo\, pose Spoleto e il Festival al primo posto nella sua esistenza e a Casa Menotti stabili’ la sua base operativa.\nIl suo carisma attirò nei decenni artisti da tutto il mondo\, per molti di loro Spoleto rappresentò un trampolino di lancio. \nDiesis Audio eccellenza nel settore dell’hi-fi a livello internazionale\, propone al Museo Casa Menotti\, un sentito omaggio a due grandi figure della musica mondiale.\n Da un impianto di assoluto riferimento\, ascolteremo composizioni di Giancarlo Menotti e musiche del Festival dei due Mondi. \nDomenica 31 agosto alle 12\, sarà nostro gradito ospite Michele Dall’Ongaro\, personaggio di punta del panorama musicale e culturale del Paese.\n Compositore e organizzatore musicale\, Dall’Ongaro è stato presidente di Nuova Consonanza\, curatore delle attività permanenti del settore musica alla Biennale di Venezia\, consulente del Festival Roma Europa\, sovrintendente dell’Orchestra Sinfonica della Rai e\, per due mandati consecutivi\, presidente-sovrintendente dell’Accademia Nazionale di Santa Cecilia.\n Michele Dall’Ongaro collabora alla Rai da 30 anni ed è stato il dirigente responsabile della musica a Radio3. \n
URL:https://www.casamenotti.it/event/gian-carlo-e-thomas-due-vite-una-citta-un-festival-con-michele-dallongaro/
CATEGORIES:Musica
ATTACH;FMTTYPE=image/jpeg:https://www.casamenotti.it/wp-content/uploads/2025/07/dallongaro.jpg
END:VEVENT
END:VCALENDAR