BEGIN:VCALENDAR
VERSION:2.0
PRODID:-//Casa Menotti - ECPv4.6.23//NONSGML v1.0//EN
CALSCALE:GREGORIAN
METHOD:PUBLISH
X-WR-CALNAME:Casa Menotti
X-ORIGINAL-URL:https://www.casamenotti.it
X-WR-CALDESC:Events for Casa Menotti
BEGIN:VEVENT
DTSTART;TZID=Europe/Rome:20190929T180000
DTEND;TZID=Europe/Rome:20190929T180000
DTSTAMP:20260426T033551
CREATED:20190902T085802Z
LAST-MODIFIED:20190902T090323Z
UID:2913-1569780000-1569780000@www.casamenotti.it
SUMMARY:Menotti Art Festival 2019 - Inizio di un viaggio
DESCRIPTION:Menotti Art Festival – Spoleto Art in the City 2019\ndal 27 al 30 settembre \n“Inizio di un viaggio” \nAmerico Marinelli\, pianoforte \n
URL:https://www.casamenotti.it/event/menotti-art-festival-2019-inizio-di-un-viaggio/
CATEGORIES:Musica
ATTACH;FMTTYPE=image/jpeg:https://www.casamenotti.it/wp-content/uploads/2019/09/artfestival.jpeg
END:VEVENT
END:VCALENDAR