BEGIN:VCALENDAR
VERSION:2.0
PRODID:-//Casa Menotti - ECPv4.6.23//NONSGML v1.0//EN
CALSCALE:GREGORIAN
METHOD:PUBLISH
X-WR-CALNAME:Casa Menotti
X-ORIGINAL-URL:https://www.casamenotti.it
X-WR-CALDESC:Events for Casa Menotti
BEGIN:VEVENT
DTSTART;TZID=Europe/Rome:20240623T170000
DTEND;TZID=Europe/Rome:20240623T170000
DTSTAMP:20260424T231837
CREATED:20240506T080727Z
LAST-MODIFIED:20240506T080727Z
UID:3604-1719162000-1719162000@www.casamenotti.it
SUMMARY:Musicare i poeti\, da Dante a Pasolini - "Neue Lieder Trio" in concerto
DESCRIPTION:Musiche PIERO NISSIM\nArmonizzazioni FRANCO MEOLI \nMARIA BRUNO (soprano)\nPIERO NISSIM (voce naturale)\nFRANCO MEOLI (pianoforte) \n
URL:https://www.casamenotti.it/event/musicare-i-poeti-da-dante-a-pasolini-neue-lieder-trio-in-concerto/
CATEGORIES:Musica
ATTACH;FMTTYPE=image/jpeg:https://www.casamenotti.it/wp-content/uploads/2024/05/musicareipoeti.jpg
END:VEVENT
END:VCALENDAR