BEGIN:VCALENDAR
VERSION:2.0
PRODID:-//Casa Menotti - ECPv4.6.23//NONSGML v1.0//EN
CALSCALE:GREGORIAN
METHOD:PUBLISH
X-WR-CALNAME:Casa Menotti
X-ORIGINAL-URL:https://www.casamenotti.it
X-WR-CALDESC:Events for Casa Menotti
BEGIN:VEVENT
DTSTART;TZID=Europe/Rome:20220702T100000
DTEND;TZID=Europe/Rome:20220702T100000
DTSTAMP:20260426T001031
CREATED:20220620T151531Z
LAST-MODIFIED:20220620T151625Z
UID:3170-1656756000-1656756000@www.casamenotti.it
SUMMARY:Presentazione di Musica da Casa Menotti 2022. Visita dell’installazione video al primo piano di Casa Menotti\, proiettata fino al 10 luglio.
DESCRIPTION:Artists on Camera:\nMichael Blackwood Productions \nUna serie di film per il Festival dei Due Mondi\, 24 giugno – 12 luglio 2022\nPresentato da Mahler & LeWitt Studios\, con il supporto di Bloomberg Philanthropies. \nMichael Blackwood è uno dei documentaristi d’arte più prolifici e affermati\, avendo prodotto oltre 150 film dagli anni ‘60 ad oggi\, e avendo raccontato le storie delle menti creative di maggior impatto dei propri tempi. \nSpoleto 1967\n1967\, 58min.\, Casa Menotti.\nQuesto film documenta il decimo anniversario del Festival di Spoleto\, o Festival dei Due Mondi\, fondato da Gian Carlo Menotti nel 1957. \nQuesto film documenta il decimo anniversario del Festival di Spoleto\, o Festival dei Due Mondi\, fondato da Gian Carlo Menotti nel 1957. L’idea di Menotti prevedeva di avvicinare gli artisti americani all’Italia per spettacoli e mostre. Tale proposito catturò l’interesse del regista americano Michael Blackwood che ne documentò l’anniversario. I punti salienti del film includono interviste con Henry Moore riguardo le sue scenografie per il Don Giovanni di Menotti\, letture di poesie con Allen Ginsberg e Giuseppe Ungaretti\, Buckminster Fuller e la sua cupola  geodetica e le registrazioni di Jerzy Grotowski per la messa in scena di El Principe Constante di Calderón\, presentato dal Warsaw Lab Theatre. \nPer informazioni riguardo agli altri 15 film di Michael Blackwood proiettati durante il Festival allo Spazio Collicola\, Sala Pegasus e Sala Frau\, visitate www.Mahler-Lewitt.org. \nQuesto evento fa parte di Musica da Casa Menotti 2022 \n
URL:https://www.casamenotti.it/event/presentazione-di-musica-da-casa-menotti-2022-visita-dellinstallazione-video-al-primo-piano-di-casa-menotti-proiettata-fino-al-10-luglio/
CATEGORIES:Mostre
ATTACH;FMTTYPE=image/png:https://www.casamenotti.it/wp-content/uploads/2022/06/sabato-2-luglio-michael-blackwood-productions.png
END:VEVENT
END:VCALENDAR