BEGIN:VCALENDAR
VERSION:2.0
PRODID:-//Casa Menotti - ECPv4.6.23//NONSGML v1.0//EN
CALSCALE:GREGORIAN
METHOD:PUBLISH
X-WR-CALNAME:Casa Menotti
X-ORIGINAL-URL:https://www.casamenotti.it
X-WR-CALDESC:Events for Casa Menotti
BEGIN:VEVENT
DTSTART;TZID=Europe/Rome:20260801T180000
DTEND;TZID=Europe/Rome:20260801T180000
DTSTAMP:20260424T114714
CREATED:20260423T142401Z
LAST-MODIFIED:20260423T142401Z
UID:4319-1785607200-1785607200@www.casamenotti.it
SUMMARY:The Music of Earl Zindars
DESCRIPTION:Luciano Troja – pianoforte \nIl pianista siciliano Luciano Troja presenta un concerto dedicato alla musica di Earl Zindars\, (Chicago 1927 – San Francisco 2005).\nUna speciale anticipazione del centenario della nascita del compositore che ricorrerà il prossimo anno. Un viaggio dentro la musica e la personalità di Zindars\, compositore attivo fra classica e jazz\, noto soprattutto per l’amicizia e la speciale empatia musicale con il leggendario pianista Bill Evans\, il quale suonò e registrò le sue composizioni lungo l’intero arco della sua carriera\, tra cui le celebri How My Heart Sings ed Elsa.\nIl concerto esplora i due album At Home with Zindars (2010) e To New Life (2023)\, pubblicati da Troja\, frutto di un lungo percorso di ricerca e collaborazione con la famiglia del compositore: Anne Zindars\, sua moglie per oltre 40 anni\, pianista e compositrice\, le figlie Helene\, apprezzata soprano\, e Karen con un importante trascorso nella danza.\nIl lavoro di Troja ha ricevuto il plauso della critica internazionale con riconoscimenti da parte di riviste specializzate come Stereophile (“Record To Die For”) e Cadence Magazine (“Best of the Year”). \nProgramma \nMother of Earl (Earl Zindars)\nNice Place (Earl Zindars)\nElsa (Earl Zindars)\nMy Love Is An April Song (Earl Zindars)\nSareen Jurer/Hokees Orrant Ee Var (Earl Zindars – Annig Zindarsian)\nKaren’s Mode (Earl Zindars)\nLullaby For Helene (Earl Zindars)\nI Always Think of You (Earl Zindars)\nEarl and Bill (Luciano Troja)\nHow My Heart Sings (Earl & Anne Zindars)\nRoses For Annig (Earl Zindars) \nLuciano Troja\, nato a Messina nel 1963\, si è laureato in Jazz con il massimo dei voti e la lode al Conservatorio della sua città. Ha studiato per anni con Salvatore Bonafede. Ha seguito corsi di jazz a Siena\, Genova Perugia\, Londra e\, privatamente\, a New York con Richie Beirach. Oltre ad essere laureato in Giurisprudenza\, ha conseguito la laurea magistrale in Scienze dello Spettacolo e Produzioni Multimediali all’Università di Messina. L’ambito di cui si occupa va dalla tradizione all’avanguardia. Ha all’attivo oltre 15 album da leader e co-leader\, alcuni dei quali inseriti nelle scelte dei migliori dischi dell’anno nei magazine specializzati Cadence\, All About Jazz\, El Intruso\, Musica Jazz\, ed è stato candidato due volte all’Independent Music Awards (USA). Ha tenuto concerti in tutta Italia\, in Europa e USA per rassegne e festival specializzati\, e presso prestigiose istituzioni come la NYU e il Maybeck Hall di Berkeley\, California.\nDa oltre venti anni collabora con il chitarrista Giancarlo Mazzù\, esibendosi in duo ed in formazioni più allargate\, fra Europa e Stati Uniti\, forgiando insieme un percorso personale sul Great American Songbook in tre album\, che hanno ottenuto numerosi riconoscimenti. Nel 2010 Troja ha pubblicato l’opera monografica At Home With Zindars per piano solo\, dedicata alla musica di Earl Zindars ottenendo\, il “Record To Die For 2011” per la prestigiosa rivista americana Stereophile\, assegnato ai migliori album di tutti i tempi.\nDa anni collabora negli USA con i gruppi dei veterani della impro newyorkese Blaise Siwula e Rocco John Iacovone\, tenendo numerosi concerti e incidendo per le labels americane NoFrills Music\, Unseen Rain\, Silver Horn. Direttore artistico dal 2013 al 2022 della Filarmonica Laudamo Messina\, la più antica associazione concertistica della Sicilia\, ha fondato la Filarmonica Laudamo Creative Orchestra (FLCO) 30 musicisti dell’Area dello Stretto di Messina\, collaborando con Karl Berger\, Ingrid Sertso\, Dave Burrell\, Salvatore Bonafede\, Instant Composers Pools\, B.Siwula\, R.J.Iacovone\, Marco Cappelli\, Javier Girotto. Oggi l’orchestra è diretta da Troja con Giancarlo Mazzù.\nE’ co-fondatore e direttore musicale del Pannonica Jazz Workshop\, laboratorio musicale indipendente\, attivo da oltre 25 anni. E’ fra i conduttori di “Suono & Ritmo” di Giovanna La Maestra e Francesca Billè\, laboratorio che persegue l’integrazione fra musicisti e disabili. In duo con il fagottista Antonino Cicero ha pubblicato nel 2016 An Italian Tale (Almendra) originals ispirati alle canzoni di Giovanni D’Anzi\, progetto di grande successo ancora molto richiesto nelle stagioni concertistiche italiane.\nDel 2023 il suo album in piano solo “To New Life” (Almendra)\, secondo omaggio alla musica di Earl Zindars\, molto ben accolto dalla critica specializzata (“A contender for solo piano album of the year” All About Jazz). Uscito nel luglio 2025 per la Silver Horn\, l’album “One Mind” registrato a Woodstock nel 2019 con Karl Berger\, Ingrid Sertso e Giancarlo Mazzù. \n
URL:https://www.casamenotti.it/event/the-music-of-earl-zindars/
CATEGORIES:Musica
ATTACH;FMTTYPE=image/jpeg:https://www.casamenotti.it/wp-content/uploads/2026/04/Unknown.jpeg
END:VEVENT
END:VCALENDAR